BEGIN:VCALENDAR
VERSION:2.0
PRODID:-//Golfe Saint-Tropez//Events//FR
CALSCALE:GREGORIAN
METHOD:PUBLISH
BEGIN:VEVENT
UID:69e52399ebef3@golfe-saint-tropez.com
DTSTAMP:20260419T184857Z
DTSTART:20260517T000000
DTEND:20260517T000000
SUMMARY:Récréalire : spécial animaux
DESCRIPTION:Plongez dans l’univers magique des animaux avec l’événement Récréalire : spécial animaux\, une animation ludique et créative organisée à La-Croix-Valmer\, […]\n\nPlus d'infos : https://golfe-saint-tropez.com/evenement/la-croix-valmer/recrealire-special-animaux/
LOCATION:Résidence Cap Novéa\, Bâtiment A\, 528 Boulevard de Saint Raphaël\, 83420 La-Croix-Valmer
STATUS:CONFIRMED
SEQUENCE:0
END:VEVENT
END:VCALENDAR
