BEGIN:VCALENDAR
VERSION:2.0
PRODID:-//Golfe Saint-Tropez//Events//FR
CALSCALE:GREGORIAN
METHOD:PUBLISH
BEGIN:VEVENT
UID:69e4f62b9f37a@golfe-saint-tropez.com
DTSTAMP:20260419T153507Z
DTSTART:20260530T000000
DTEND:20260530T000000
SUMMARY:Bal de la Saint-Pons
DESCRIPTION:Plongez dans l’ambiance festive du Bal de la Saint-Pons\, un événement incontournable du Golfe de Saint-Tropez qui anime chaque année […]\n\nPlus d'infos : https://golfe-saint-tropez.com/evenement/le-plan-de-la-tour/bal-de-la-saint-pons/
LOCATION:Plan-de-la-Tour
STATUS:CONFIRMED
SEQUENCE:0
END:VEVENT
END:VCALENDAR
