BEGIN:VCALENDAR
VERSION:2.0
PRODID:-//Golfe Saint-Tropez//Events//FR
CALSCALE:GREGORIAN
METHOD:PUBLISH
BEGIN:VEVENT
UID:69e50c0a40a46@golfe-saint-tropez.com
DTSTAMP:20260419T170826Z
DTSTART:20260530T000000
DTEND:20260531T000000
SUMMARY:Fête de la Saint-Pons
DESCRIPTION:Plongez au cœur de l’authenticité provençale lors de la Fête de la Saint-Pons\, un événement incontournable qui anime le charmant […]\n\nPlus d'infos : https://golfe-saint-tropez.com/evenement/le-plan-de-la-tour/fete-de-la-saint-pons/
LOCATION:Village\, 83120 Le Plan-de-la-Tour
STATUS:CONFIRMED
SEQUENCE:0
END:VEVENT
END:VCALENDAR
