BEGIN:VCALENDAR
VERSION:2.0
PRODID:-//Golfe Saint-Tropez//Events//FR
CALSCALE:GREGORIAN
METHOD:PUBLISH
BEGIN:VEVENT
UID:69e5b7fbd059d@golfe-saint-tropez.com
DTSTAMP:20260420T052203Z
DTSTART:20260516T000000
DTEND:20260517T000000
SUMMARY:Fête de Quartier -Fête de printemps
DESCRIPTION:Célébrez l’arrivée des beaux jours au cœur du Golfe de Saint-Tropez ! La Fête de Quartier – Fête de printemps […]\n\nPlus d'infos : https://golfe-saint-tropez.com/evenement/le-plan-de-la-tour/fete-de-quartier-fete-de-printemps/
LOCATION:Plan-de-la-Tour (lieu non précisé)
STATUS:CONFIRMED
SEQUENCE:0
END:VEVENT
END:VCALENDAR
