BEGIN:VCALENDAR
VERSION:2.0
PRODID:-//Golfe Saint-Tropez//Events//FR
CALSCALE:GREGORIAN
METHOD:PUBLISH
BEGIN:VEVENT
UID:69e5230d65bb9@golfe-saint-tropez.com
DTSTAMP:20260419T184637Z
DTSTART:20260523T000000
DTEND:20260523T000000
SUMMARY:L’Art dans la Rue – Concours de peinture – expositions – artisanat
DESCRIPTION:Laissez libre cours à votre créativité lors de la nouvelle édition de « L’Art dans la Rue »\, un événement […]\n\nPlus d'infos : https://golfe-saint-tropez.com/evenement/le-plan-de-la-tour/lart-dans-la-rue-concours-de-peinture-expositions-artisanat/
LOCATION:Village\, 83120 Le Plan-de-la-Tour
STATUS:CONFIRMED
SEQUENCE:0
END:VEVENT
END:VCALENDAR
