BEGIN:VCALENDAR
VERSION:2.0
PRODID:-//Golfe Saint-Tropez//Events//FR
CALSCALE:GREGORIAN
METHOD:PUBLISH
BEGIN:VEVENT
UID:69e54b6da3de7@golfe-saint-tropez.com
DTSTAMP:20260419T213853Z
DTSTART:20260502T000000
DTEND:20260502T000000
SUMMARY:Les 24h du Plan : marche dans les collines du Plan de la Tour.
DESCRIPTION:Découvrez les paysages préservés du massif des Maures lors des 24h du Plan\, un événement incontournable pour les amateurs de […]\n\nPlus d'infos : https://golfe-saint-tropez.com/evenement/le-plan-de-la-tour/les-24h-du-plan-marche-dans-les-collines-du-plan-de-la-tour/
LOCATION:Place Foch\, Le Plan-de-la-Tour\, 83120
STATUS:CONFIRMED
SEQUENCE:0
END:VEVENT
END:VCALENDAR
