BEGIN:VCALENDAR
VERSION:2.0
PRODID:-//Golfe Saint-Tropez//Events//FR
CALSCALE:GREGORIAN
METHOD:PUBLISH
BEGIN:VEVENT
UID:69e50ca1bddc3@golfe-saint-tropez.com
DTSTAMP:20260419T171057Z
DTSTART:20260414T000000
DTEND:20270430T000000
SUMMARY:Pétanque – Concours – Tournois
DESCRIPTION:Passionnés de pétanque ou simples curieux\, ne manquez pas les concours et tournois de pétanque organisés au Plan-de-la-Tour\, un événement […]\n\nPlus d'infos : https://golfe-saint-tropez.com/evenement/le-plan-de-la-tour/petanque-concours-tournois/
LOCATION:Plan-de-la-Tour
STATUS:CONFIRMED
SEQUENCE:0
END:VEVENT
END:VCALENDAR
