BEGIN:VCALENDAR
VERSION:2.0
PRODID:-//Golfe Saint-Tropez//Events//FR
CALSCALE:GREGORIAN
METHOD:PUBLISH
BEGIN:VEVENT
UID:69e4f69e2f5e8@golfe-saint-tropez.com
DTSTAMP:20260419T153702Z
DTSTART:20260425T000000
DTEND:20261226T000000
SUMMARY:Repair café du golfe de Saint-Tropez
DESCRIPTION:Et si vous donniez une seconde vie à vos objets plutôt que de les jeter ? Le Repair Café du […]\n\nPlus d'infos : https://golfe-saint-tropez.com/evenement/le-plan-de-la-tour/repair-cafe-du-golfe-de-saint-tropez-2/
LOCATION:Plan-de-la-Tour
STATUS:CONFIRMED
SEQUENCE:0
END:VEVENT
END:VCALENDAR
