BEGIN:VCALENDAR
VERSION:2.0
PRODID:-//Golfe Saint-Tropez//Events//FR
CALSCALE:GREGORIAN
METHOD:PUBLISH
BEGIN:VEVENT
UID:69eb3ec98da27@golfe-saint-tropez.com
DTSTAMP:20260424T095833Z
DTSTART:20260502T000000
DTEND:20260502T000000
SUMMARY:Séance de Dédicace – Fabien Salducci
DESCRIPTION:Plongez dans l’histoire locale du Golfe de Saint-Tropez à l’occasion de cette séance de dédicace avec Fabien Salducci\, auteur passionné […]\n\nPlus d'infos : https://golfe-saint-tropez.com/evenement/le-plan-de-la-tour/seance-de-dedicace-fabien-salducci/
LOCATION:Le Plan-de-la-Tour\, Var\, France
STATUS:CONFIRMED
SEQUENCE:0
END:VEVENT
END:VCALENDAR
