BEGIN:VCALENDAR
VERSION:2.0
PRODID:-//Golfe Saint-Tropez//Events//FR
CALSCALE:GREGORIAN
METHOD:PUBLISH
BEGIN:VEVENT
UID:69e50c7311996@golfe-saint-tropez.com
DTSTAMP:20260419T171011Z
DTSTART:20260720T000000
DTEND:20260725T000000
SUMMARY:Semaine bouliste – Concours de pétanque
DESCRIPTION:Plongez dans l’ambiance conviviale du Sud lors de la Semaine bouliste – Concours de pétanque\, un événement incontournable du Golfe […]\n\nPlus d'infos : https://golfe-saint-tropez.com/evenement/le-plan-de-la-tour/semaine-bouliste-concours-de-petanque/
LOCATION:Plan-de-la-Tour
STATUS:CONFIRMED
SEQUENCE:0
END:VEVENT
END:VCALENDAR
