BEGIN:VCALENDAR
VERSION:2.0
PRODID:-//Golfe Saint-Tropez//Events//FR
CALSCALE:GREGORIAN
METHOD:PUBLISH
BEGIN:VEVENT
UID:69e53739d5c64@golfe-saint-tropez.com
DTSTAMP:20260419T201241Z
DTSTART:20260523T000000
DTEND:20260523T000000
SUMMARY:Vide Greniers des Coquinous
DESCRIPTION:Amateurs de bonnes affaires et passionnés de brocante\, marquez vos calendriers pour une journée de découvertes au cœur de l’arrière-pays […]\n\nPlus d'infos : https://golfe-saint-tropez.com/evenement/le-plan-de-la-tour/vide-greniers-des-coquinous/
LOCATION:Village\, 83120 Le Plan-de-la-Tour
STATUS:CONFIRMED
SEQUENCE:0
END:VEVENT
END:VCALENDAR
