BEGIN:VCALENDAR
VERSION:2.0
PRODID:-//Golfe Saint-Tropez//Events//FR
CALSCALE:GREGORIAN
METHOD:PUBLISH
BEGIN:VEVENT
UID:69eb29c975e00@golfe-saint-tropez.com
DTSTAMP:20260424T082857Z
DTSTART:20260605T000000
DTEND:20260605T000000
SUMMARY:A l’écoute du Petit-duc à Ramatuelle
DESCRIPTION:Plongez dans l’univers mystérieux des rapaces nocturnes lors de l’événement « À l’écoute du Petit-duc » à Ramatuelle\, une expérience […]\n\nPlus d'infos : https://golfe-saint-tropez.com/evenement/ramatuelle/a-lecoute-du-petit-duc-a-ramatuelle/
LOCATION:A l'écoute du Petit-duc à Ramatuelle\, commune de Ramatuelle\, 83350 Ramatuelle
STATUS:CONFIRMED
SEQUENCE:0
END:VEVENT
END:VCALENDAR
