BEGIN:VCALENDAR
VERSION:2.0
PRODID:-//Golfe Saint-Tropez//Events//FR
CALSCALE:GREGORIAN
METHOD:PUBLISH
BEGIN:VEVENT
UID:69e4d0061832e@golfe-saint-tropez.com
DTSTAMP:20260419T125222Z
DTSTART:20260422T000000
DTEND:20260422T000000
SUMMARY:Atelier créatif pour les enfants
DESCRIPTION:Offrez à vos enfants un moment de créativité et de découverte lors de cet atelier créatif organisé à Ramatuelle\, au […]\n\nPlus d'infos : https://golfe-saint-tropez.com/evenement/ramatuelle/atelier-creatif-pour-les-enfants-4/
LOCATION:Cercle du Littoral\, Rue du Centre\, 83350 Ramatuelle
STATUS:CONFIRMED
SEQUENCE:0
END:VEVENT
END:VCALENDAR
