BEGIN:VCALENDAR
VERSION:2.0
PRODID:-//Golfe Saint-Tropez//Events//FR
CALSCALE:GREGORIAN
METHOD:PUBLISH
BEGIN:VEVENT
UID:69e4e2a950e10@golfe-saint-tropez.com
DTSTAMP:20260419T141153Z
DTSTART:20260426T000000
DTEND:20260426T000000
SUMMARY:BALM – Une bouteille à la mer
DESCRIPTION:Plongez dans l’univers des vins vivants avec le salon BALM – Une bouteille à la mer\, un événement incontournable du […]\n\nPlus d'infos : https://golfe-saint-tropez.com/evenement/ramatuelle/balm-une-bouteille-a-la-mer/
LOCATION:Domaine Fondugues-Pradugues\, 7677 Route des Plages\, 83350 Ramatuelle
STATUS:CONFIRMED
SEQUENCE:0
END:VEVENT
END:VCALENDAR
