BEGIN:VCALENDAR
VERSION:2.0
PRODID:-//Golfe Saint-Tropez//Events//FR
CALSCALE:GREGORIAN
METHOD:PUBLISH
BEGIN:VEVENT
UID:69e4ca78f063f@golfe-saint-tropez.com
DTSTAMP:20260419T122840Z
DTSTART:20260416T000000
DTEND:20260423T000000
SUMMARY:Chasse aux œufs aux Vignobles de Ramatuelle
DESCRIPTION:Offrez à vos enfants une chasse aux œufs inoubliable dans un cadre exceptionnel ! Le 16 avril 2026\, les Vignobles […]\n\nPlus d'infos : https://golfe-saint-tropez.com/evenement/ramatuelle/chasse-aux-oeufs-aux-vignobles-de-ramatuelle-2/
LOCATION:597 Route de Collebasse\, Direction l'Escalet au rond de la ZI le Colombier\, 83350 Ramatuelle
STATUS:CONFIRMED
SEQUENCE:0
END:VEVENT
END:VCALENDAR
