BEGIN:VCALENDAR
VERSION:2.0
PRODID:-//Golfe Saint-Tropez//Events//FR
CALSCALE:GREGORIAN
METHOD:PUBLISH
BEGIN:VEVENT
UID:69e4cb83323fe@golfe-saint-tropez.com
DTSTAMP:20260419T123307Z
DTSTART:20260501T000000
DTEND:20260915T000000
SUMMARY:Clos des B
DESCRIPTION:Découvrez le Clos des B\, un domaine viticole d’exception niché à Ramatuelle\, au cœur du Golfe de Saint-Tropez. Cet événement […]\n\nPlus d'infos : https://golfe-saint-tropez.com/evenement/ramatuelle/clos-des-b/
LOCATION:Clos des B\, 932 route de Collebasse en face de la coopérative\, 83350 Ramatuelle
STATUS:CONFIRMED
SEQUENCE:0
END:VEVENT
END:VCALENDAR
