BEGIN:VCALENDAR
VERSION:2.0
PRODID:-//Golfe Saint-Tropez//Events//FR
CALSCALE:GREGORIAN
METHOD:PUBLISH
BEGIN:VEVENT
UID:69e57c2bc1c2b@golfe-saint-tropez.com
DTSTAMP:20260420T010651Z
DTSTART:20260812T000000
DTEND:20260812T000000
SUMMARY:Festival de Ramatuelle – Benabar en tournée
DESCRIPTION:Plongez dans l’univers poétique et malicieux de Benabar lors d’une soirée exceptionnelle au cœur du Golfe de Saint-Tropez ! Le […]\n\nPlus d'infos : https://golfe-saint-tropez.com/evenement/ramatuelle/festival-de-ramatuelle-benabar-en-tournee/
LOCATION:Théâtre de Verdure\, La Rocade\, 83350 Ramatuelle
STATUS:CONFIRMED
SEQUENCE:0
END:VEVENT
END:VCALENDAR
