BEGIN:VCALENDAR
VERSION:2.0
PRODID:-//Golfe Saint-Tropez//Events//FR
CALSCALE:GREGORIAN
METHOD:PUBLISH
BEGIN:VEVENT
UID:69e5b85c98ad9@golfe-saint-tropez.com
DTSTAMP:20260420T052340Z
DTSTART:20260809T000000
DTEND:20260809T000000
SUMMARY:Festival de Ramatuelle – Camille Chamoux – Ça va\, ça va
DESCRIPTION:Plongez dans l’univers pétillant de Camille Chamoux avec son nouveau spectacle « Ça va\, ça va »\, à ne pas […]\n\nPlus d'infos : https://golfe-saint-tropez.com/evenement/ramatuelle/festival-de-ramatuelle-camille-chamoux-ca-va-ca-va/
LOCATION:Théâtre de Verdure\, La Rocade\, 83350 Ramatuelle
STATUS:CONFIRMED
SEQUENCE:0
END:VEVENT
END:VCALENDAR
