BEGIN:VCALENDAR
VERSION:2.0
PRODID:-//Golfe Saint-Tropez//Events//FR
CALSCALE:GREGORIAN
METHOD:PUBLISH
BEGIN:VEVENT
UID:69e5a4748d8c7@golfe-saint-tropez.com
DTSTAMP:20260420T035844Z
DTSTART:20260810T000000
DTEND:20260810T000000
SUMMARY:Festival de Ramatuelle – Dans le couloir
DESCRIPTION:Plongez dans l’émotion théâtrale au cœur du Golfe de Saint-Tropez avec le Festival de Ramatuelle ! Le lundi 10 août […]\n\nPlus d'infos : https://golfe-saint-tropez.com/evenement/ramatuelle/festival-de-ramatuelle-dans-le-couloir/
LOCATION:Théâtre de Verdure\, La Rocade\, 83350 Ramatuelle
STATUS:CONFIRMED
SEQUENCE:0
END:VEVENT
END:VCALENDAR
