BEGIN:VCALENDAR
VERSION:2.0
PRODID:-//Golfe Saint-Tropez//Events//FR
CALSCALE:GREGORIAN
METHOD:PUBLISH
BEGIN:VEVENT
UID:69e624cdaae07@golfe-saint-tropez.com
DTSTAMP:20260420T130621Z
DTSTART:20260804T000000
DTEND:20260804T000000
SUMMARY:Festival de Ramatuelle – Dolores
DESCRIPTION:Plongez dans l’émotion et l’histoire avec le Festival de Ramatuelle – Dolores\, un événement culturel incontournable du Golfe de Saint-Tropez. […]\n\nPlus d'infos : https://golfe-saint-tropez.com/evenement/ramatuelle/festival-de-ramatuelle-dolores/
LOCATION:Théâtre de Verdure\, La Rocade\, 83350 Ramatuelle
STATUS:CONFIRMED
SEQUENCE:0
END:VEVENT
END:VCALENDAR
