BEGIN:VCALENDAR
VERSION:2.0
PRODID:-//Golfe Saint-Tropez//Events//FR
CALSCALE:GREGORIAN
METHOD:PUBLISH
BEGIN:VEVENT
UID:69e590f3b552d@golfe-saint-tropez.com
DTSTAMP:20260420T023531Z
DTSTART:20260811T000000
DTEND:20260811T000000
SUMMARY:Festival de Ramatuelle – Douze hommes en colère
DESCRIPTION:Plongez au cœur d’un suspense haletant avec le Festival de Ramatuelle et sa représentation exceptionnelle de Douze hommes en colère\, […]\n\nPlus d'infos : https://golfe-saint-tropez.com/evenement/ramatuelle/festival-de-ramatuelle-douze-hommes-en-colere/
LOCATION:Théâtre de Verdure\, La Rocade\, 83350 Ramatuelle
STATUS:CONFIRMED
SEQUENCE:0
END:VEVENT
END:VCALENDAR
