BEGIN:VCALENDAR
VERSION:2.0
PRODID:-//Golfe Saint-Tropez//Events//FR
CALSCALE:GREGORIAN
METHOD:PUBLISH
BEGIN:VEVENT
UID:69e5e31a8c863@golfe-saint-tropez.com
DTSTAMP:20260420T082602Z
DTSTART:20260807T000000
DTEND:20260807T000000
SUMMARY:Festival de Ramatuelle – Je m’appelle Georges… et vous ?
DESCRIPTION:Plongez dans l’univers décalé et romantique du Festival de Ramatuelle avec la comédie « Je m’appelle Georges… et vous ? […]\n\nPlus d'infos : https://golfe-saint-tropez.com/evenement/ramatuelle/festival-de-ramatuelle-je-mappelle-georges-et-vous/
LOCATION:Théâtre de Verdure\, La Rocade\, 83350 Ramatuelle
STATUS:CONFIRMED
SEQUENCE:0
END:VEVENT
END:VCALENDAR
