BEGIN:VCALENDAR
VERSION:2.0
PRODID:-//Golfe Saint-Tropez//Events//FR
CALSCALE:GREGORIAN
METHOD:PUBLISH
BEGIN:VEVENT
UID:69e5cebe808e9@golfe-saint-tropez.com
DTSTAMP:20260420T065910Z
DTSTART:20260808T213000
DTEND:20260808T213000
SUMMARY:Festival de Ramatuelle – Jeanne Cherhal – en concert
DESCRIPTION:Plongez dans l’univers poétique et audacieux de Jeanne Cherhal lors d’un concert exceptionnel au cœur du Golfe de Saint-Tropez. Le […]\n\nPlus d'infos : https://golfe-saint-tropez.com/evenement/ramatuelle/festival-de-ramatuelle-jeanne-cherhal-en-concert/
LOCATION:Théâtre de Verdure\, La Rocade\, 83350 Ramatuelle
STATUS:CONFIRMED
SEQUENCE:0
END:VEVENT
END:VCALENDAR
