BEGIN:VCALENDAR
VERSION:2.0
PRODID:-//Golfe Saint-Tropez//Events//FR
CALSCALE:GREGORIAN
METHOD:PUBLISH
BEGIN:VEVENT
UID:69e6109de1bd4@golfe-saint-tropez.com
DTSTAMP:20260420T114013Z
DTSTART:20260805T000000
DTEND:20260805T000000
SUMMARY:Festival de Ramatuelle – La Joconde parle enfin
DESCRIPTION:Et si La Joconde prenait enfin la parole ? Le Festival de Ramatuelle vous invite à une soirée théâtrale unique […]\n\nPlus d'infos : https://golfe-saint-tropez.com/evenement/ramatuelle/festival-de-ramatuelle-la-joconde-parle-enfin/
LOCATION:Théâtre de Verdure\, La Rocade\, 83350 Ramatuelle
STATUS:CONFIRMED
SEQUENCE:0
END:VEVENT
END:VCALENDAR
