BEGIN:VCALENDAR
VERSION:2.0
PRODID:-//Golfe Saint-Tropez//Events//FR
CALSCALE:GREGORIAN
METHOD:PUBLISH
BEGIN:VEVENT
UID:69e63b43ddb1f@golfe-saint-tropez.com
DTSTAMP:20260420T144211Z
DTSTART:20260803T000000
DTEND:20260803T000000
SUMMARY:Festival de Ramatuelle – Toute la famille que j’aime
DESCRIPTION:Plongez dans l’univers hilarant de la famille la plus déjantée du Golfe de Saint-Tropez lors du Festival de Ramatuelle ! […]\n\nPlus d'infos : https://golfe-saint-tropez.com/evenement/ramatuelle/festival-de-ramatuelle-toute-la-famille-que-jaime/
LOCATION:Théâtre de Verdure\, La Rocade\, 83350 Ramatuelle
STATUS:CONFIRMED
SEQUENCE:0
END:VEVENT
END:VCALENDAR
