BEGIN:VCALENDAR
VERSION:2.0
PRODID:-//Golfe Saint-Tropez//Events//FR
CALSCALE:GREGORIAN
METHOD:PUBLISH
BEGIN:VEVENT
UID:69e5f97cb4d94@golfe-saint-tropez.com
DTSTAMP:20260420T100132Z
DTSTART:20260806T000000
DTEND:20260806T000000
SUMMARY:Festival de Ramatuelle – Une heure à t’attendre
DESCRIPTION:Plongez dans l’intimité d’une attente bouleversante au cœur du Golfe de Saint-Tropez avec le Festival de Ramatuelle. Le jeudi 6 […]\n\nPlus d'infos : https://golfe-saint-tropez.com/evenement/ramatuelle/festival-de-ramatuelle-une-heure-a-tattendre/
LOCATION:Théâtre de Verdure\, La Rocade\, 83350 Ramatuelle
STATUS:CONFIRMED
SEQUENCE:0
END:VEVENT
END:VCALENDAR
