BEGIN:VCALENDAR
VERSION:2.0
PRODID:-//Golfe Saint-Tropez//Events//FR
CALSCALE:GREGORIAN
METHOD:PUBLISH
BEGIN:VEVENT
UID:69e5615e51f21@golfe-saint-tropez.com
DTSTAMP:20260419T231230Z
DTSTART:20260713T000000
DTEND:20260717T000000
SUMMARY:Festival Reconnexion de retour pour sa 6ème édition – programme intégral
DESCRIPTION:Plongez dans l’énergie créative du Festival Reconnexion\, de retour pour sa 6ème édition dans le cadre enchanteur du Golfe de […]\n\nPlus d'infos : https://golfe-saint-tropez.com/evenement/ramatuelle/festival-reconnexion-de-retour-pour-sa-6eme-edition-programme-integral/
LOCATION:Théâtre de Verdure\, La Rocade\, 83350 Ramatuelle
STATUS:CONFIRMED
SEQUENCE:0
END:VEVENT
END:VCALENDAR
