BEGIN:VCALENDAR
VERSION:2.0
PRODID:-//Golfe Saint-Tropez//Events//FR
CALSCALE:GREGORIAN
METHOD:PUBLISH
BEGIN:VEVENT
UID:69e5a66d347e4@golfe-saint-tropez.com
DTSTAMP:20260420T040709Z
DTSTART:20260716T000000
DTEND:20260716T000000
SUMMARY:Festival Reconnexion – Papooz + Plaisir
DESCRIPTION:Plongez dans l’énergie vibrante du Festival Reconnexion le 16 juillet 2026 à Ramatuelle\, un événement incontournable du Golfe de Saint-Tropez […]\n\nPlus d'infos : https://golfe-saint-tropez.com/evenement/ramatuelle/festival-reconnexion-papooz-plaisir/
LOCATION:Théâtre de Verdure\, La Rocade\, 83350 Ramatuelle
STATUS:CONFIRMED
SEQUENCE:0
END:VEVENT
END:VCALENDAR
