BEGIN:VCALENDAR
VERSION:2.0
PRODID:-//Golfe Saint-Tropez//Events//FR
CALSCALE:GREGORIAN
METHOD:PUBLISH
BEGIN:VEVENT
UID:69e5bdab6658e@golfe-saint-tropez.com
DTSTAMP:20260420T054619Z
DTSTART:20260717T000000
DTEND:20260717T000000
SUMMARY:Festival Reconnexion – Requin Chagrin + Frànçois and the Atlas mountains
DESCRIPTION:Plongez dans l’univers envoûtant du Festival Reconnexion à Ramatuelle\, un événement incontournable du Golfe de Saint-Tropez pour les amateurs de […]\n\nPlus d'infos : https://golfe-saint-tropez.com/evenement/ramatuelle/festival-reconnexion-requin-chagrin-francois-and-the-atlas-mountains/
LOCATION:Théâtre de Verdure\, La Rocade\, 83350 Ramatuelle
STATUS:CONFIRMED
SEQUENCE:0
END:VEVENT
END:VCALENDAR
