BEGIN:VCALENDAR
VERSION:2.0
PRODID:-//Golfe Saint-Tropez//Events//FR
CALSCALE:GREGORIAN
METHOD:PUBLISH
BEGIN:VEVENT
UID:69e5e1ccc81c6@golfe-saint-tropez.com
DTSTAMP:20260420T082028Z
DTSTART:20260721T000000
DTEND:20260721T000000
SUMMARY:Fête de l’été
DESCRIPTION:Plongez dans l’ambiance estivale du Golfe de Saint-Tropez avec la Fête de l’été à Ramatuelle ! Le mardi 21 juillet […]\n\nPlus d'infos : https://golfe-saint-tropez.com/evenement/ramatuelle/fete-de-lete/
LOCATION:Place de l'Ormeau\, 83350 Ramatuelle (devant la fontaine)
STATUS:CONFIRMED
SEQUENCE:0
END:VEVENT
END:VCALENDAR
