BEGIN:VCALENDAR
VERSION:2.0
PRODID:-//Golfe Saint-Tropez//Events//FR
CALSCALE:GREGORIAN
METHOD:PUBLISH
BEGIN:VEVENT
UID:69e4e15c24801@golfe-saint-tropez.com
DTSTAMP:20260419T140620Z
DTSTART:20260509T000000
DTEND:20260509T000000
SUMMARY:Fête du Printemps au Domaine La Tourraque
DESCRIPTION:Célébrez l’arrivée des beaux jours au cœur du Golfe de Saint-Tropez ! Le Domaine La Tourraque à Ramatuelle vous invite […]\n\nPlus d'infos : https://golfe-saint-tropez.com/evenement/ramatuelle/fete-du-printemps-au-domaine-la-tourraque/
LOCATION:2444 Chemin de la Bastide Blanche\, 83350 Ramatuelle
STATUS:CONFIRMED
SEQUENCE:0
END:VEVENT
END:VCALENDAR
