BEGIN:VCALENDAR
VERSION:2.0
PRODID:-//Golfe Saint-Tropez//Events//FR
CALSCALE:GREGORIAN
METHOD:PUBLISH
BEGIN:VEVENT
UID:69eb278ac1744@golfe-saint-tropez.com
DTSTAMP:20260424T081922Z
DTSTART:20260715T000000
DTEND:20260715T000000
SUMMARY:Les mercredis des enfants – Atelier marionnette et Voyage en Couleurs
DESCRIPTION:Offrez à vos enfants un mercredi magique au cœur du Golfe de Saint-Tropez ! Le 15 juillet 2026\, Ramatuelle invite […]\n\nPlus d'infos : https://golfe-saint-tropez.com/evenement/ramatuelle/les-mercredis-des-enfants-atelier-marionnette-et-voyage-en-couleurs/
LOCATION:Place de l'Ormeau\, 83350 Ramatuelle (devant la fontaine)
STATUS:CONFIRMED
SEQUENCE:0
END:VEVENT
END:VCALENDAR
