BEGIN:VCALENDAR
VERSION:2.0
PRODID:-//Golfe Saint-Tropez//Events//FR
CALSCALE:GREGORIAN
METHOD:PUBLISH
BEGIN:VEVENT
UID:69eb29253907a@golfe-saint-tropez.com
DTSTAMP:20260424T082613Z
DTSTART:20260819T000000
DTEND:20260819T000000
SUMMARY:Les mercredis des enfants – jeux et jouets en bois et carnet de vacances\, les 5 sens
DESCRIPTION:Offrez à vos enfants une expérience ludique et créative au cœur du Golfe de Saint-Tropez ! Le 19 août 2026\, […]\n\nPlus d'infos : https://golfe-saint-tropez.com/evenement/ramatuelle/les-mercredis-des-enfants-jeux-et-jouets-en-bois-et-carnet-de-vacances-les-5-sens/
LOCATION:Place de l'Ormeau\, 83350 Ramatuelle (devant la fontaine)
STATUS:CONFIRMED
SEQUENCE:0
END:VEVENT
END:VCALENDAR
