BEGIN:VCALENDAR
VERSION:2.0
PRODID:-//Golfe Saint-Tropez//Events//FR
CALSCALE:GREGORIAN
METHOD:PUBLISH
BEGIN:VEVENT
UID:69eb28185dd5b@golfe-saint-tropez.com
DTSTAMP:20260424T082144Z
DTSTART:20260708T000000
DTEND:20260708T000000
SUMMARY:Les mercredis des enfants – marionnettes articulées et bijoux du monde &
DESCRIPTION:Le Golfe de Saint-Tropez regorge d’activités pour les familles\, et cet été\, Ramatuelle invite vos enfants à un moment créatif […]\n\nPlus d'infos : https://golfe-saint-tropez.com/evenement/ramatuelle/les-mercredis-des-enfants-marionnettes-articulees-et-bijoux-du-monde/
LOCATION:Place de l'Ormeau\, 83350 Ramatuelle (devant la fontaine)
STATUS:CONFIRMED
SEQUENCE:0
END:VEVENT
END:VCALENDAR
