BEGIN:VCALENDAR
VERSION:2.0
PRODID:-//Golfe Saint-Tropez//Events//FR
CALSCALE:GREGORIAN
METHOD:PUBLISH
BEGIN:VEVENT
UID:69eb29c94b721@golfe-saint-tropez.com
DTSTAMP:20260424T082857Z
DTSTART:20260826T000000
DTEND:20260826T000000
SUMMARY:Les mercredis des enfants – sculpture de galets et Et si copier\, c’était créer !
DESCRIPTION:Offrez à vos enfants une expérience artistique unique dans le cadre enchanteur du Golfe de Saint-Tropez ! Le mercredi 26 […]\n\nPlus d'infos : https://golfe-saint-tropez.com/evenement/ramatuelle/les-mercredis-des-enfants-sculpture-de-galets-et-et-si-copier-cetait-creer/
LOCATION:Place de l'Ormeau\, 83350 Ramatuelle (devant la fontaine)
STATUS:CONFIRMED
SEQUENCE:0
END:VEVENT
END:VCALENDAR
