BEGIN:VCALENDAR
VERSION:2.0
PRODID:-//Golfe Saint-Tropez//Events//FR
CALSCALE:GREGORIAN
METHOD:PUBLISH
BEGIN:VEVENT
UID:69eb27ab06fda@golfe-saint-tropez.com
DTSTAMP:20260424T081955Z
DTSTART:20260805T000000
DTEND:20260805T000000
SUMMARY:Les mercredis des enfants – suspension naturelle et décoration de son éventail
DESCRIPTION:Offrez à vos enfants une expérience créative et ludique au cœur du Golfe de Saint-Tropez ! Le mercredi 5 août […]\n\nPlus d'infos : https://golfe-saint-tropez.com/evenement/ramatuelle/les-mercredis-des-enfants-suspension-naturelle-et-decoration-de-son-eventail/
LOCATION:Place de l'Ormeau\, 83350 Ramatuelle (devant la fontaine)
STATUS:CONFIRMED
SEQUENCE:0
END:VEVENT
END:VCALENDAR
