BEGIN:VCALENDAR
VERSION:2.0
PRODID:-//Golfe Saint-Tropez//Events//FR
CALSCALE:GREGORIAN
METHOD:PUBLISH
BEGIN:VEVENT
UID:69eb29010813b@golfe-saint-tropez.com
DTSTAMP:20260424T082537Z
DTSTART:20260708T000000
DTEND:20260826T000000
SUMMARY:Les mercredis des enfants
DESCRIPTION:Offrez à vos enfants un moment magique au cœur du Golfe de Saint-Tropez avec Les mercredis des enfants\, un événement […]\n\nPlus d'infos : https://golfe-saint-tropez.com/evenement/ramatuelle/les-mercredis-des-enfants/
LOCATION:Place de l'Ormeau\, 83350 Ramatuelle (devant la fontaine)
STATUS:CONFIRMED
SEQUENCE:0
END:VEVENT
END:VCALENDAR
