BEGIN:VCALENDAR
VERSION:2.0
PRODID:-//Golfe Saint-Tropez//Events//FR
CALSCALE:GREGORIAN
METHOD:PUBLISH
BEGIN:VEVENT
UID:69eb3b3828206@golfe-saint-tropez.com
DTSTAMP:20260424T094320Z
DTSTART:20260713T000000
DTEND:20260713T000000
SUMMARY:L’Escalet by Reconnexion : Chéri Chéri + Heavychest
DESCRIPTION:Imaginez une soirée où le rock seventies rencontre la dream pop néo-zélandaise\, les pieds dans le sable fin de l’Escalet\, […]\n\nPlus d'infos : https://golfe-saint-tropez.com/evenement/ramatuelle/lescalet-by-reconnexion-cheri-cheri-heavychest-2/
LOCATION:Plage de l'Escalet\, 83350 Ramatuelle
STATUS:CONFIRMED
SEQUENCE:0
END:VEVENT
END:VCALENDAR
