BEGIN:VCALENDAR
VERSION:2.0
PRODID:-//Golfe Saint-Tropez//Events//FR
CALSCALE:GREGORIAN
METHOD:PUBLISH
BEGIN:VEVENT
UID:69e50af648b44@golfe-saint-tropez.com
DTSTAMP:20260419T170350Z
DTSTART:20260710T000000
DTEND:20260710T000000
SUMMARY:Magic parade à Ramatuelle
DESCRIPTION:Plongez dans l’univers féerique de la Magic parade à Ramatuelle\, un événement incontournable du Golfe de Saint-Tropez qui émerveillera petits […]\n\nPlus d'infos : https://golfe-saint-tropez.com/evenement/ramatuelle/magic-parade-a-ramatuelle/
LOCATION:Place de l'Ormeau\, 83350 Ramatuelle (devant la fontaine)
STATUS:CONFIRMED
SEQUENCE:0
END:VEVENT
END:VCALENDAR
