BEGIN:VCALENDAR
VERSION:2.0
PRODID:-//Golfe Saint-Tropez//Events//FR
CALSCALE:GREGORIAN
METHOD:PUBLISH
BEGIN:VEVENT
UID:69e5f5f9b0553@golfe-saint-tropez.com
DTSTAMP:20260420T094633Z
DTSTART:20260603T103000
DTEND:20260930T180000
SUMMARY:Marché artisanal
DESCRIPTION:Plongez dans l’artisanat local du Golfe de Saint-Tropez lors du marché artisanal de Ramatuelle\, un événement incontournable pour les amateurs […]\n\nPlus d'infos : https://golfe-saint-tropez.com/evenement/ramatuelle/marche-artisanal/
LOCATION:Place de l'Ormeau\, 83350 Ramatuelle (devant la fontaine)
STATUS:CONFIRMED
SEQUENCE:0
END:VEVENT
END:VCALENDAR
