BEGIN:VCALENDAR
VERSION:2.0
PRODID:-//Golfe Saint-Tropez//Events//FR
CALSCALE:GREGORIAN
METHOD:PUBLISH
BEGIN:VEVENT
UID:69e4e4f82bb5c@golfe-saint-tropez.com
DTSTAMP:20260419T142144Z
DTSTART:20260728T190000
DTEND:20260728T190000
SUMMARY:Marché potier de Ramatuelle
DESCRIPTION:Plongez dans l’univers créatif des artisans potiers au cœur du charmant village de Ramatuelle ! Le Marché potier de Ramatuelle\, […]\n\nPlus d'infos : https://golfe-saint-tropez.com/evenement/ramatuelle/marche-potier-de-ramatuelle/
LOCATION:Place de l'Ormeau\, 83350 Ramatuelle (devant la fontaine)
STATUS:CONFIRMED
SEQUENCE:0
END:VEVENT
END:VCALENDAR
