BEGIN:VCALENDAR
VERSION:2.0
PRODID:-//Golfe Saint-Tropez//Events//FR
CALSCALE:GREGORIAN
METHOD:PUBLISH
BEGIN:VEVENT
UID:69e7b97988db6@golfe-saint-tropez.com
DTSTAMP:20260421T175257Z
DTSTART:20260503T080000
DTEND:20260503T130000
SUMMARY:Marché Provençal du Dimanche Ramatuelle – 3 mai 2026
DESCRIPTION:Chaque dimanche matin\, le marché provençal s’installe au cœur du village de Ramatuelle\, sur la charmante Place de l’Ormeau\, de […]\n\nPlus d'infos : https://golfe-saint-tropez.com/evenement/ramatuelle/marche-provencal-du-dimanche-ramatuelle-2026-05-03/
LOCATION:Place de l'ormeau Ramatuelle
STATUS:CONFIRMED
SEQUENCE:0
END:VEVENT
END:VCALENDAR
