BEGIN:VCALENDAR
VERSION:2.0
PRODID:-//Golfe Saint-Tropez//Events//FR
CALSCALE:GREGORIAN
METHOD:PUBLISH
BEGIN:VEVENT
UID:69e7b92772c5b@golfe-saint-tropez.com
DTSTAMP:20260421T175135Z
DTSTART:20260426T080000
DTEND:20260426T130000
SUMMARY:Marché Provençal du Dimanche Ramatuelle
DESCRIPTION:Chaque dimanche matin\, le marché provençal s’installe au cœur du village de Ramatuelle\, sur la charmante Place de l’Ormeau\, de […]\n\nPlus d'infos : https://golfe-saint-tropez.com/evenement/ramatuelle/marche-provencal-du-dimanche-ramatuelle/
LOCATION:Place de l'ormeau Ramatuelle
STATUS:CONFIRMED
SEQUENCE:0
END:VEVENT
END:VCALENDAR
