BEGIN:VCALENDAR
VERSION:2.0
PRODID:-//Golfe Saint-Tropez//Events//FR
CALSCALE:GREGORIAN
METHOD:PUBLISH
BEGIN:VEVENT
UID:69e4cab08ebbf@golfe-saint-tropez.com
DTSTAMP:20260419T122936Z
DTSTART:20260430T080000
DTEND:20260430T130000
SUMMARY:Marché Provençal du Jeudi Ramatuelle – 30 avril 2026
DESCRIPTION:Chaque jeudi matin\, le marché provençal s’installe au cœur du village de Ramatuelle\, sur la charmante Place de l’Ormeau\, de […]\n\nPlus d'infos : https://golfe-saint-tropez.com/evenement/ramatuelle/marche-provencal-du-jeudi-ramatuelle-2026-04-30/
LOCATION:Place de l'ormeau Ramatuelle
STATUS:CONFIRMED
SEQUENCE:0
END:VEVENT
END:VCALENDAR
