BEGIN:VCALENDAR
VERSION:2.0
PRODID:-//Golfe Saint-Tropez//Events//FR
CALSCALE:GREGORIAN
METHOD:PUBLISH
BEGIN:VEVENT
UID:69eb78e9b6e54@golfe-saint-tropez.com
DTSTAMP:20260424T140633Z
DTSTART:20260507T080000
DTEND:20260507T130000
SUMMARY:Marché Provençal du Jeudi Ramatuelle – 7 mai 2026
DESCRIPTION:Chaque jeudi matin\, le marché provençal s’installe au cœur du village de Ramatuelle\, sur la charmante Place de l’Ormeau\, de […]\n\nPlus d'infos : https://golfe-saint-tropez.com/evenement/ramatuelle/marche-provencal-du-jeudi-ramatuelle-2026-05-07/
LOCATION:Place de l'ormeau Ramatuelle
STATUS:CONFIRMED
SEQUENCE:0
END:VEVENT
END:VCALENDAR
