BEGIN:VCALENDAR
VERSION:2.0
PRODID:-//Golfe Saint-Tropez//Events//FR
CALSCALE:GREGORIAN
METHOD:PUBLISH
BEGIN:VEVENT
UID:69e7b92c858fa@golfe-saint-tropez.com
DTSTAMP:20260421T175140Z
DTSTART:20260423T080000
DTEND:20260423T130000
SUMMARY:Marché Provençal du Jeudi Ramatuelle
DESCRIPTION:Chaque jeudi matin\, le marché provençal s’installe au cœur du village de Ramatuelle\, sur la charmante Place de l’Ormeau\, de […]\n\nPlus d'infos : https://golfe-saint-tropez.com/evenement/ramatuelle/marche-provencal-du-jeudi-ramatuelle/
LOCATION:Place de l'ormeau Ramatuelle
STATUS:CONFIRMED
SEQUENCE:0
END:VEVENT
END:VCALENDAR
