BEGIN:VCALENDAR
VERSION:2.0
PRODID:-//Golfe Saint-Tropez//Events//FR
CALSCALE:GREGORIAN
METHOD:PUBLISH
BEGIN:VEVENT
UID:69e4f72028e62@golfe-saint-tropez.com
DTSTAMP:20260419T153912Z
DTSTART:20260709T000000
DTEND:20260709T000000
SUMMARY:Musique au village – Chansons Douces
DESCRIPTION:Plongez dans l’ambiance chaleureuse du Golfe de Saint-Tropez avec l’événement *Musique au village – Chansons Douces*\, un moment musical à […]\n\nPlus d'infos : https://golfe-saint-tropez.com/evenement/ramatuelle/musique-au-village-chansons-douces/
LOCATION:Place de l'Ormeau\, 83350 Ramatuelle (devant la fontaine)
STATUS:CONFIRMED
SEQUENCE:0
END:VEVENT
END:VCALENDAR
