BEGIN:VCALENDAR
VERSION:2.0
PRODID:-//Golfe Saint-Tropez//Events//FR
CALSCALE:GREGORIAN
METHOD:PUBLISH
BEGIN:VEVENT
UID:69e5ec6133f73@golfe-saint-tropez.com
DTSTAMP:20260420T090537Z
DTSTART:20260730T000000
DTEND:20260730T000000
SUMMARY:Musique au village – La Triade
DESCRIPTION:Plongez dans l’ambiance festive du Golfe de Saint-Tropez avec l’événement « Musique au village – La Triade » à Ramatuelle […]\n\nPlus d'infos : https://golfe-saint-tropez.com/evenement/ramatuelle/musique-au-village-la-triade/
LOCATION:Place de l'Ormeau\, 83350 Ramatuelle (devant la fontaine)
STATUS:CONFIRMED
SEQUENCE:0
END:VEVENT
END:VCALENDAR
