BEGIN:VCALENDAR
VERSION:2.0
PRODID:-//Golfe Saint-Tropez//Events//FR
CALSCALE:GREGORIAN
METHOD:PUBLISH
BEGIN:VEVENT
UID:69e5221294a2b@golfe-saint-tropez.com
DTSTAMP:20260419T184226Z
DTSTART:20260702T000000
DTEND:20260702T000000
SUMMARY:Musique au village – Paradigme
DESCRIPTION:Plongez dans l’ambiance chaleureuse de Ramatuelle avec l’événement Musique au village – Paradigme\, un moment musical à ne pas manquer […]\n\nPlus d'infos : https://golfe-saint-tropez.com/evenement/ramatuelle/musique-au-village-paradigme/
LOCATION:Place de l'Ormeau\, 83350 Ramatuelle (devant la fontaine)
STATUS:CONFIRMED
SEQUENCE:0
END:VEVENT
END:VCALENDAR
