BEGIN:VCALENDAR
VERSION:2.0
PRODID:-//Golfe Saint-Tropez//Events//FR
CALSCALE:GREGORIAN
METHOD:PUBLISH
BEGIN:VEVENT
UID:69e5ceae6adee@golfe-saint-tropez.com
DTSTAMP:20260420T065854Z
DTSTART:20260723T000000
DTEND:20260723T000000
SUMMARY:Musique au village – Superfly
DESCRIPTION:Plongez dans l’âge d’or de la soul\, du funk et du rock au cœur du charmant village de Ramatuelle ! […]\n\nPlus d'infos : https://golfe-saint-tropez.com/evenement/ramatuelle/musique-au-village-superfly/
LOCATION:Place de l'Ormeau\, 83350 Ramatuelle (devant la fontaine)
STATUS:CONFIRMED
SEQUENCE:0
END:VEVENT
END:VCALENDAR
